BEGIN:VCALENDAR
VERSION:2.0
PRODID:-//PNI - ECPv6.15.20//NONSGML v1.0//EN
CALSCALE:GREGORIAN
METHOD:PUBLISH
X-ORIGINAL-URL:https://pni.gitanga.co.ke
X-WR-CALDESC:Events for PNI
REFRESH-INTERVAL;VALUE=DURATION:PT1H
X-Robots-Tag:noindex
X-PUBLISHED-TTL:PT1H
BEGIN:VTIMEZONE
TZID:UTC
BEGIN:STANDARD
TZOFFSETFROM:+0000
TZOFFSETTO:+0000
TZNAME:UTC
DTSTART:20250101T000000
END:STANDARD
END:VTIMEZONE
BEGIN:VEVENT
DTSTART;TZID=UTC:20260307T080000
DTEND;TZID=UTC:20260307T170000
DTSTAMP:20260421T064619
CREATED:20251227T091337Z
LAST-MODIFIED:20251227T091340Z
UID:1872-1772870400-1772902800@pni.gitanga.co.ke
SUMMARY:PAYEP – 1st Trimester Prt 2
DESCRIPTION:
URL:https://pni.gitanga.co.ke/event/payep-1st-trimester-prt-2/
LOCATION:mombasa\, Kenya\, 12321\, malindi\, Mombasa\, 104300\, Kenya
ATTACH;FMTTYPE=image/jpeg:https://pni.gitanga.co.ke/wp-content/uploads/2025/12/WhatsApp-Image-2025-12-25-at-12.23.14.jpeg
END:VEVENT
BEGIN:VEVENT
DTSTART;TZID=UTC:20260326T080000
DTEND;TZID=UTC:20260326T170000
DTSTAMP:20260421T064619
CREATED:20251227T091831Z
LAST-MODIFIED:20251227T091834Z
UID:1874-1774512000-1774544400@pni.gitanga.co.ke
SUMMARY:Macedonian Visit
DESCRIPTION:
URL:https://pni.gitanga.co.ke/event/macedonian-visit/
LOCATION:Lilongwe
ATTACH;FMTTYPE=image/jpeg:https://pni.gitanga.co.ke/wp-content/uploads/2025/12/WhatsApp-Image-2025-12-25-at-12.23.38.jpeg
END:VEVENT
END:VCALENDAR