BEGIN:VCALENDAR
VERSION:2.0
PRODID:-//PNI - ECPv6.15.20//NONSGML v1.0//EN
CALSCALE:GREGORIAN
METHOD:PUBLISH
X-WR-CALNAME:PNI
X-ORIGINAL-URL:https://pni.gitanga.co.ke
X-WR-CALDESC:Events for PNI
REFRESH-INTERVAL;VALUE=DURATION:PT1H
X-Robots-Tag:noindex
X-PUBLISHED-TTL:PT1H
BEGIN:VTIMEZONE
TZID:UTC
BEGIN:STANDARD
TZOFFSETFROM:+0000
TZOFFSETTO:+0000
TZNAME:UTC
DTSTART:20250101T000000
END:STANDARD
END:VTIMEZONE
BEGIN:VEVENT
DTSTART;TZID=UTC:20260214T080000
DTEND;TZID=UTC:20260214T170000
DTSTAMP:20260421T080957
CREATED:20251227T085512Z
LAST-MODIFIED:20251227T085516Z
UID:1861-1771056000-1771088400@pni.gitanga.co.ke
SUMMARY:Valentine
DESCRIPTION:
URL:https://pni.gitanga.co.ke/event/valentine/
LOCATION:mombasa\, Kenya\, 12321\, malindi\, Mombasa\, 104300\, Kenya
END:VEVENT
END:VCALENDAR