BEGIN:VCALENDAR
VERSION:2.0
PRODID:-//PNI - ECPv6.15.20//NONSGML v1.0//EN
CALSCALE:GREGORIAN
METHOD:PUBLISH
X-ORIGINAL-URL:https://pni.gitanga.co.ke
X-WR-CALDESC:Events for PNI
REFRESH-INTERVAL;VALUE=DURATION:PT1H
X-Robots-Tag:noindex
X-PUBLISHED-TTL:PT1H
BEGIN:VTIMEZONE
TZID:UTC
BEGIN:STANDARD
TZOFFSETFROM:+0000
TZOFFSETTO:+0000
TZNAME:UTC
DTSTART:20250101T000000
END:STANDARD
END:VTIMEZONE
BEGIN:VEVENT
DTSTART;TZID=UTC:20261104T080000
DTEND;TZID=UTC:20261108T170000
DTSTAMP:20260423T090520
CREATED:20251227T095058Z
LAST-MODIFIED:20251231T071524Z
UID:1906-1793779200-1794157200@pni.gitanga.co.ke
SUMMARY:PAYEP – 3rd– Trimister Part 2
DESCRIPTION:
URL:https://pni.gitanga.co.ke/event/payep-3rd-trimister-part-2/
LOCATION:mombasa\, Kenya\, 12321\, malindi\, Mombasa\, 104300\, Kenya
CATEGORIES:2026 Events
ATTACH;FMTTYPE=image/jpeg:https://pni.gitanga.co.ke/wp-content/uploads/2025/12/WhatsApp-Image-2025-12-02-at-20.45.59-1.jpeg
END:VEVENT
BEGIN:VEVENT
DTSTART;TZID=UTC:20261201T080000
DTEND;TZID=UTC:20261201T170000
DTSTAMP:20260423T090520
CREATED:20251227T095356Z
LAST-MODIFIED:20251227T111222Z
UID:1908-1796112000-1796144400@pni.gitanga.co.ke
SUMMARY:PNI Funding Raising Dinner
DESCRIPTION:
URL:https://pni.gitanga.co.ke/event/pni-funding-raising-dinner/
LOCATION:Mombasa
CATEGORIES:2026 Events
ATTACH;FMTTYPE=image/jpeg:https://pni.gitanga.co.ke/wp-content/uploads/2025/12/WhatsApp-Image-2025-12-25-at-12.23.37.jpeg
END:VEVENT
END:VCALENDAR