BEGIN:VCALENDAR
VERSION:2.0
PRODID:-//PNI - ECPv6.15.20//NONSGML v1.0//EN
CALSCALE:GREGORIAN
METHOD:PUBLISH
X-WR-CALNAME:PNI
X-ORIGINAL-URL:https://pni.gitanga.co.ke
X-WR-CALDESC:Events for PNI
REFRESH-INTERVAL;VALUE=DURATION:PT1H
X-Robots-Tag:noindex
X-PUBLISHED-TTL:PT1H
BEGIN:VTIMEZONE
TZID:UTC
BEGIN:STANDARD
TZOFFSETFROM:+0000
TZOFFSETTO:+0000
TZNAME:UTC
DTSTART:20250101T000000
END:STANDARD
END:VTIMEZONE
BEGIN:VEVENT
DTSTART;TZID=UTC:20260518T080000
DTEND;TZID=UTC:20260518T170000
DTSTAMP:20260421T004725
CREATED:20251227T092229Z
LAST-MODIFIED:20251227T092231Z
UID:1878-1779091200-1779123600@pni.gitanga.co.ke
SUMMARY:PAYEP - 2nd Trimester Prt 1
DESCRIPTION:
URL:https://pni.gitanga.co.ke/event/payep-2nd-trimester-prt-1/
LOCATION:mombasa\, Kenya\, 12321\, malindi\, Mombasa\, 104300\, Kenya
ATTACH;FMTTYPE=image/jpeg:https://pni.gitanga.co.ke/wp-content/uploads/2025/12/WhatsApp-Image-2025-12-25-at-12.23.15-1.jpeg
END:VEVENT
BEGIN:VEVENT
DTSTART;TZID=UTC:20260525T080000
DTEND;TZID=UTC:20260525T170000
DTSTAMP:20260421T004725
CREATED:20251227T092422Z
LAST-MODIFIED:20251227T092425Z
UID:1880-1779696000-1779728400@pni.gitanga.co.ke
SUMMARY:Tent Makers
DESCRIPTION:
URL:https://pni.gitanga.co.ke/event/tent-makers/
LOCATION:mombasa\, Kenya\, 12321\, malindi\, Mombasa\, 104300\, Kenya
ATTACH;FMTTYPE=image/jpeg:https://pni.gitanga.co.ke/wp-content/uploads/2025/12/WhatsApp-Image-2025-12-25-at-12.23.40-1.jpeg
END:VEVENT
BEGIN:VEVENT
DTSTART;TZID=UTC:20260601T080000
DTEND;TZID=UTC:20260630T170000
DTSTAMP:20260421T004725
CREATED:20251227T092646Z
LAST-MODIFIED:20251227T120508Z
UID:1882-1780300800-1782838800@pni.gitanga.co.ke
SUMMARY:Delaware Conference
DESCRIPTION:
URL:https://pni.gitanga.co.ke/event/delaware-conference/
LOCATION:Lilongwe
ATTACH;FMTTYPE=image/jpeg:https://pni.gitanga.co.ke/wp-content/uploads/2025/12/WhatsApp-Image-2025-12-25-at-12.23.13.jpeg
END:VEVENT
BEGIN:VEVENT
DTSTART;TZID=UTC:20260723T080000
DTEND;TZID=UTC:20260802T170000
DTSTAMP:20260421T004725
CREATED:20251227T093404Z
LAST-MODIFIED:20251227T093408Z
UID:1888-1784793600-1785690000@pni.gitanga.co.ke
SUMMARY:Macedonian Visit
DESCRIPTION:
URL:https://pni.gitanga.co.ke/event/macedonian-visit-3/
LOCATION:Windhoek\, Namibia\, Windhoek\, Windhoek\, Namibia
ATTACH;FMTTYPE=image/jpeg:https://pni.gitanga.co.ke/wp-content/uploads/2025/12/WhatsApp-Image-2025-12-02-at-20.46.04-1-1.jpeg
END:VEVENT
BEGIN:VEVENT
DTSTART;TZID=UTC:20260723T080000
DTEND;TZID=UTC:20260803T170000
DTSTAMP:20260421T004725
CREATED:20251227T093001Z
LAST-MODIFIED:20251227T093005Z
UID:1884-1784793600-1785776400@pni.gitanga.co.ke
SUMMARY:Macedonian Visit
DESCRIPTION:
URL:https://pni.gitanga.co.ke/event/macedonian-visit-2/
LOCATION:Harare\, Zimbabwe\, Harare\, Harare\, Zimbabwe
ATTACH;FMTTYPE=image/jpeg:https://pni.gitanga.co.ke/wp-content/uploads/2025/12/WhatsApp-Image-2025-12-25-at-12.23.32-1.jpeg
END:VEVENT
BEGIN:VEVENT
DTSTART;TZID=UTC:20260818T080000
DTEND;TZID=UTC:20260818T170000
DTSTAMP:20260421T004725
CREATED:20251227T093826Z
LAST-MODIFIED:20251227T093830Z
UID:1894-1787040000-1787072400@pni.gitanga.co.ke
SUMMARY:PAYEP – 2nd Trimister Prt 2
DESCRIPTION:
URL:https://pni.gitanga.co.ke/event/payep-2nd-trimister-prt-2/
LOCATION:mombasa\, Kenya\, 12321\, malindi\, Mombasa\, 104300\, Kenya
ATTACH;FMTTYPE=image/jpeg:https://pni.gitanga.co.ke/wp-content/uploads/2025/12/WhatsApp-Image-2025-12-25-at-12.23.39-2.jpeg
END:VEVENT
BEGIN:VEVENT
DTSTART;TZID=UTC:20260818T080000
DTEND;TZID=UTC:20260823T170000
DTSTAMP:20260421T004725
CREATED:20251227T093640Z
LAST-MODIFIED:20251227T093643Z
UID:1892-1787040000-1787504400@pni.gitanga.co.ke
SUMMARY:Africa Ministers' Conference
DESCRIPTION:
URL:https://pni.gitanga.co.ke/event/africa-ministers-conference/
LOCATION:mombasa\, Kenya\, 12321\, malindi\, Mombasa\, 104300\, Kenya
ATTACH;FMTTYPE=image/jpeg:https://pni.gitanga.co.ke/wp-content/uploads/2025/12/WhatsApp-Image-2025-12-02-at-20.46.09-2.jpeg
END:VEVENT
BEGIN:VEVENT
DTSTART;TZID=UTC:20260908T080000
DTEND;TZID=UTC:20260913T170000
DTSTAMP:20260421T004725
CREATED:20251227T094108Z
LAST-MODIFIED:20251227T094111Z
UID:1896-1788854400-1789318800@pni.gitanga.co.ke
SUMMARY:The Great Malawi Mission
DESCRIPTION:
URL:https://pni.gitanga.co.ke/event/the-great-malawi-mission/
LOCATION:Lilongwe\, Malawi
ATTACH;FMTTYPE=image/jpeg:https://pni.gitanga.co.ke/wp-content/uploads/2025/12/WhatsApp-Image-2025-12-02-at-20.46.09-2.jpeg
END:VEVENT
BEGIN:VEVENT
DTSTART;TZID=UTC:20260928T080000
DTEND;TZID=UTC:20261102T170000
DTSTAMP:20260421T004725
CREATED:20251231T073448Z
LAST-MODIFIED:20251231T073505Z
UID:1898-1790582400-1793638800@pni.gitanga.co.ke
SUMMARY:PAYEP – 3rd– Trimister Part 1
DESCRIPTION:
URL:https://pni.gitanga.co.ke/event/payep-3rd-trimister-part-1/
LOCATION:Lilongwe. Malawi\, Lilongwe\, Lilongwe\, Malawi
CATEGORIES:2026 Events
ATTACH;FMTTYPE=image/jpeg:https://pni.gitanga.co.ke/wp-content/uploads/2025/12/WhatsApp-Image-2025-12-02-at-20.46.09-1-1.jpeg
END:VEVENT
BEGIN:VEVENT
DTSTART;TZID=UTC:20261104T080000
DTEND;TZID=UTC:20261108T170000
DTSTAMP:20260421T004725
CREATED:20251227T094826Z
LAST-MODIFIED:20251227T094829Z
UID:1902-1793779200-1794157200@pni.gitanga.co.ke
SUMMARY:PNI Mission
DESCRIPTION:
URL:https://pni.gitanga.co.ke/event/pni-mission/
LOCATION:Nyahururu\, Kenya\, Nyahururu\, Nyahururu\, Kenya
ATTACH;FMTTYPE=image/jpeg:https://pni.gitanga.co.ke/wp-content/uploads/2025/12/WhatsApp-Image-2025-12-02-at-20.45.58.jpeg
END:VEVENT
BEGIN:VEVENT
DTSTART;TZID=UTC:20261104T080000
DTEND;TZID=UTC:20261108T170000
DTSTAMP:20260421T004725
CREATED:20251227T095058Z
LAST-MODIFIED:20251231T071524Z
UID:1906-1793779200-1794157200@pni.gitanga.co.ke
SUMMARY:PAYEP – 3rd– Trimister Part 2
DESCRIPTION:
URL:https://pni.gitanga.co.ke/event/payep-3rd-trimister-part-2/
LOCATION:mombasa\, Kenya\, 12321\, malindi\, Mombasa\, 104300\, Kenya
CATEGORIES:2026 Events
ATTACH;FMTTYPE=image/jpeg:https://pni.gitanga.co.ke/wp-content/uploads/2025/12/WhatsApp-Image-2025-12-02-at-20.45.59-1.jpeg
END:VEVENT
BEGIN:VEVENT
DTSTART;TZID=UTC:20261201T080000
DTEND;TZID=UTC:20261201T170000
DTSTAMP:20260421T004725
CREATED:20251227T095356Z
LAST-MODIFIED:20251227T111222Z
UID:1908-1796112000-1796144400@pni.gitanga.co.ke
SUMMARY:PNI Funding Raising Dinner
DESCRIPTION:
URL:https://pni.gitanga.co.ke/event/pni-funding-raising-dinner/
LOCATION:Lilongwe
CATEGORIES:2026 Events
ATTACH;FMTTYPE=image/jpeg:https://pni.gitanga.co.ke/wp-content/uploads/2025/12/WhatsApp-Image-2025-12-25-at-12.23.37.jpeg
END:VEVENT
END:VCALENDAR