BEGIN:VCALENDAR
VERSION:2.0
PRODID:-//PNI - ECPv6.15.20//NONSGML v1.0//EN
CALSCALE:GREGORIAN
METHOD:PUBLISH
X-ORIGINAL-URL:https://pni.gitanga.co.ke
X-WR-CALDESC:Events for PNI
REFRESH-INTERVAL;VALUE=DURATION:PT1H
X-Robots-Tag:noindex
X-PUBLISHED-TTL:PT1H
BEGIN:VTIMEZONE
TZID:UTC
BEGIN:STANDARD
TZOFFSETFROM:+0000
TZOFFSETTO:+0000
TZNAME:UTC
DTSTART:20250101T000000
END:STANDARD
END:VTIMEZONE
BEGIN:VEVENT
DTSTART;TZID=UTC:20260928T080000
DTEND;TZID=UTC:20261102T170000
DTSTAMP:20260425T164244
CREATED:20251231T073448Z
LAST-MODIFIED:20251231T073505Z
UID:1898-1790582400-1793638800@pni.gitanga.co.ke
SUMMARY:PAYEP – 3rd– Trimister Part 1
DESCRIPTION:
URL:https://pni.gitanga.co.ke/event/payep-3rd-trimister-part-1/
LOCATION:Lilongwe. Malawi\, Lilongwe\, Lilongwe\, Malawi
CATEGORIES:2026 Events
ATTACH;FMTTYPE=image/jpeg:https://pni.gitanga.co.ke/wp-content/uploads/2025/12/WhatsApp-Image-2025-12-02-at-20.46.09-1-1.jpeg
END:VEVENT
END:VCALENDAR