BEGIN:VCALENDAR
VERSION:2.0
PRODID:-//PNI - ECPv6.15.20//NONSGML v1.0//EN
CALSCALE:GREGORIAN
METHOD:PUBLISH
X-WR-CALNAME:PNI
X-ORIGINAL-URL:https://pni.gitanga.co.ke
X-WR-CALDESC:Events for PNI
REFRESH-INTERVAL;VALUE=DURATION:PT1H
X-Robots-Tag:noindex
X-PUBLISHED-TTL:PT1H
BEGIN:VTIMEZONE
TZID:UTC
BEGIN:STANDARD
TZOFFSETFROM:+0000
TZOFFSETTO:+0000
TZNAME:UTC
DTSTART:20250101T000000
END:STANDARD
END:VTIMEZONE
BEGIN:VEVENT
DTSTART;TZID=UTC:20260601T080000
DTEND;TZID=UTC:20260630T170000
DTSTAMP:20260423T115156
CREATED:20251227T092646Z
LAST-MODIFIED:20251227T120508Z
UID:1882-1780300800-1782838800@pni.gitanga.co.ke
SUMMARY:Delaware Conference
DESCRIPTION:
URL:https://pni.gitanga.co.ke/event/delaware-conference/
LOCATION:Lilongwe
ATTACH;FMTTYPE=image/jpeg:https://pni.gitanga.co.ke/wp-content/uploads/2025/12/WhatsApp-Image-2025-12-25-at-12.23.13.jpeg
END:VEVENT
END:VCALENDAR